BEGIN:VCALENDAR
VERSION:2.0
PRODID:-//Cross Creek Clays |  Sporting Clays, 5-Stand, Make-A-Break, FITASC - ECPv6.15.18//NONSGML v1.0//EN
CALSCALE:GREGORIAN
METHOD:PUBLISH
X-WR-CALNAME:Cross Creek Clays |  Sporting Clays, 5-Stand, Make-A-Break, FITASC
X-ORIGINAL-URL:https://crosscreekclays.com
X-WR-CALDESC:Events for Cross Creek Clays |  Sporting Clays, 5-Stand, Make-A-Break, FITASC
REFRESH-INTERVAL;VALUE=DURATION:PT1H
X-Robots-Tag:noindex
X-PUBLISHED-TTL:PT1H
BEGIN:VTIMEZONE
TZID:America/Chicago
BEGIN:DAYLIGHT
TZOFFSETFROM:-0600
TZOFFSETTO:-0500
TZNAME:CDT
DTSTART:20250309T080000
END:DAYLIGHT
BEGIN:STANDARD
TZOFFSETFROM:-0500
TZOFFSETTO:-0600
TZNAME:CST
DTSTART:20251102T070000
END:STANDARD
BEGIN:DAYLIGHT
TZOFFSETFROM:-0600
TZOFFSETTO:-0500
TZNAME:CDT
DTSTART:20260308T080000
END:DAYLIGHT
BEGIN:STANDARD
TZOFFSETFROM:-0500
TZOFFSETTO:-0600
TZNAME:CST
DTSTART:20261101T070000
END:STANDARD
BEGIN:DAYLIGHT
TZOFFSETFROM:-0600
TZOFFSETTO:-0500
TZNAME:CDT
DTSTART:20270314T080000
END:DAYLIGHT
BEGIN:STANDARD
TZOFFSETFROM:-0500
TZOFFSETTO:-0600
TZNAME:CST
DTSTART:20271107T070000
END:STANDARD
END:VTIMEZONE
BEGIN:VEVENT
DTSTART;TZID=America/Chicago:20260424T080000
DTEND;TZID=America/Chicago:20260424T170000
DTSTAMP:20260424T153448
CREATED:20251205T174403Z
LAST-MODIFIED:20260423T131939Z
UID:4236-1777017600-1777050000@crosscreekclays.com
SUMMARY:Montgomery County Homebuilders Association Shoot
DESCRIPTION:Attention Public Shooters: \nThe Red Course will be closed all day on Friday\, April 24th for the Montgomery County Home Builders Association Shoot. The course will reopen on Saturday\, April 25th at 1:00 PM. \nPlease note that golf carts will be limited during this event. \nThank you for your understanding—we look forward to seeing you out on the range!
URL:https://crosscreekclays.com/event/montgomery-county-homebuilders-association-shoot/
LOCATION:Cross Creek Clays\, 3975 Jarman Hollow Rd\, Palmyra\, TN\, 37142\, United States
END:VEVENT
END:VCALENDAR