BEGIN:VCALENDAR
VERSION:2.0
PRODID:-//Cross Creek Clays |  Sporting Clays, 5-Stand, Make-A-Break, FITASC - ECPv6.15.18//NONSGML v1.0//EN
CALSCALE:GREGORIAN
METHOD:PUBLISH
X-ORIGINAL-URL:https://crosscreekclays.com
X-WR-CALDESC:Events for Cross Creek Clays |  Sporting Clays, 5-Stand, Make-A-Break, FITASC
REFRESH-INTERVAL;VALUE=DURATION:PT1H
X-Robots-Tag:noindex
X-PUBLISHED-TTL:PT1H
BEGIN:VTIMEZONE
TZID:America/Chicago
BEGIN:DAYLIGHT
TZOFFSETFROM:-0600
TZOFFSETTO:-0500
TZNAME:CDT
DTSTART:20230312T080000
END:DAYLIGHT
BEGIN:STANDARD
TZOFFSETFROM:-0500
TZOFFSETTO:-0600
TZNAME:CST
DTSTART:20231105T070000
END:STANDARD
BEGIN:DAYLIGHT
TZOFFSETFROM:-0600
TZOFFSETTO:-0500
TZNAME:CDT
DTSTART:20240310T080000
END:DAYLIGHT
BEGIN:STANDARD
TZOFFSETFROM:-0500
TZOFFSETTO:-0600
TZNAME:CST
DTSTART:20241103T070000
END:STANDARD
BEGIN:DAYLIGHT
TZOFFSETFROM:-0600
TZOFFSETTO:-0500
TZNAME:CDT
DTSTART:20250309T080000
END:DAYLIGHT
BEGIN:STANDARD
TZOFFSETFROM:-0500
TZOFFSETTO:-0600
TZNAME:CST
DTSTART:20251102T070000
END:STANDARD
END:VTIMEZONE
BEGIN:VEVENT
DTSTART;TZID=America/Chicago:20240927T090000
DTEND;TZID=America/Chicago:20240927T130000
DTSTAMP:20260424T225030
CREATED:20230712T223010Z
LAST-MODIFIED:20240409T161459Z
UID:2699-1727427600-1727442000@crosscreekclays.com
SUMMARY:Customs House Museum & Cultural Center Fundraiser Shoot
DESCRIPTION:
URL:https://crosscreekclays.com/event/customs-house-museum-cultural-center-fundraiser-shoot/
LOCATION:Cross Creek Clays\, 3975 Jarman Hollow Rd\, Palmyra\, TN\, 37142\, United States
END:VEVENT
BEGIN:VEVENT
DTSTART;TZID=America/Chicago:20240927T080000
DTEND;TZID=America/Chicago:20240927T130000
DTSTAMP:20260424T225030
CREATED:20240725T183051Z
LAST-MODIFIED:20240725T183051Z
UID:3604-1727424000-1727442000@crosscreekclays.com
SUMMARY:Customs House Charity Shoot
DESCRIPTION:
URL:https://crosscreekclays.com/event/customs-house-charity-shoot/
LOCATION:TN
END:VEVENT
BEGIN:VEVENT
DTSTART;VALUE=DATE:20240919
DTEND;VALUE=DATE:20240923
DTSTAMP:20260424T225030
CREATED:20231207T234258Z
LAST-MODIFIED:20231208T172732Z
UID:2902-1726704000-1727049599@crosscreekclays.com
SUMMARY:2024 Tennessee State Championship
DESCRIPTION:Cross Creek will be closed to members and the public the week of September 16th\, 2024.  We will be setting the courses for the State Championship.
URL:https://crosscreekclays.com/event/2024-tennessee-state-championship/
LOCATION:Cross Creek Clays\, 3975 Jarman Hollow Rd\, Palmyra\, TN\, 37142\, United States
ORGANIZER;CN="TSCA and CCC":MAILTO:info@crosscreekclays.com
END:VEVENT
BEGIN:VEVENT
DTSTART;TZID=America/Chicago:20240916T080000
DTEND;TZID=America/Chicago:20240922T170000
DTSTAMP:20260424T225030
CREATED:20240725T182946Z
LAST-MODIFIED:20240725T182946Z
UID:3602-1726473600-1727024400@crosscreekclays.com
SUMMARY:Tennessee State Sporting Clays Championship Setup
DESCRIPTION:Closed for the State Shoot
URL:https://crosscreekclays.com/event/tennessee-state-sporting-clays-championship-setup/
LOCATION:Cross Creek Clays\, 3975 Jarman Hollow Rd\, Palmyra\, TN\, 37142\, United States
ORGANIZER;CN="Cross Creek Clays":MAILTO:info@crosscreekclays.com
END:VEVENT
BEGIN:VEVENT
DTSTART;VALUE=DATE:20240914
DTEND;VALUE=DATE:20240915
DTSTAMP:20260424T225030
CREATED:20240725T182708Z
LAST-MODIFIED:20240725T182722Z
UID:3600-1726272000-1726358399@crosscreekclays.com
SUMMARY:Legion SOX Corporate Shoot
DESCRIPTION:2 Flights all day on Red Course
URL:https://crosscreekclays.com/event/legion-sox-corporate-shoot/
LOCATION:Cross Creek Clays\, 3975 Jarman Hollow Rd\, Palmyra\, TN\, 37142\, United States
ORGANIZER;CN="Cross Creek Clays":MAILTO:info@crosscreekclays.com
END:VEVENT
BEGIN:VEVENT
DTSTART;VALUE=DATE:20240907
DTEND;VALUE=DATE:20240909
DTSTAMP:20260424T225030
CREATED:20231207T233227Z
LAST-MODIFIED:20231207T233227Z
UID:2892-1725667200-1725839999@crosscreekclays.com
SUMMARY:Ironman #1
DESCRIPTION:The first of two Ironman shoots at Cross Creek Clays and Montgomery County Shooting Complex. Blue Course. \nThis is a NSCA Registered event available for registration on ScoreChaser. A combined score from MCSC and CCC are added together to determine Ironman Class champions. Eligibility requires you to shoot both sporting clays courses on the weekend of the event.
URL:https://crosscreekclays.com/event/ironman-1-2/
LOCATION:TN
ORGANIZER;CN="MCSC and CCC":MAILTO:info@cosscreekclays.com
END:VEVENT
BEGIN:VEVENT
DTSTART;TZID=America/Chicago:20240906T080000
DTEND;TZID=America/Chicago:20240906T170000
DTSTAMP:20260424T225030
CREATED:20240725T182523Z
LAST-MODIFIED:20240725T182523Z
UID:3598-1725609600-1725642000@crosscreekclays.com
SUMMARY:101st Pre-deployment Shoot Corporate
DESCRIPTION:
URL:https://crosscreekclays.com/event/101st-pre-deployment-shoot-corporate/
LOCATION:Cross Creek Clays\, 3975 Jarman Hollow Rd\, Palmyra\, TN\, 37142\, United States
ORGANIZER;CN="Cross Creek Clays":MAILTO:info@crosscreekclays.com
END:VEVENT
BEGIN:VEVENT
DTSTART;TZID=America/Chicago:20240831T090000
DTEND;TZID=America/Chicago:20240831T130000
DTSTAMP:20260424T225030
CREATED:20240725T182349Z
LAST-MODIFIED:20240725T182349Z
UID:3595-1725094800-1725109200@crosscreekclays.com
SUMMARY:Shoot Out MS Charity Shoot
DESCRIPTION:Team of 5 – $450.00 \nIndividual – $100.00 \nYouth – $75.00
URL:https://crosscreekclays.com/event/shoot-out-ms-charity-shoot/
LOCATION:Cross Creek Clays\, 3975 Jarman Hollow Rd\, Palmyra\, TN\, 37142\, United States
END:VEVENT
BEGIN:VEVENT
DTSTART;TZID=America/Chicago:20240824T080000
DTEND;TZID=America/Chicago:20240824T130000
DTSTAMP:20260424T225030
CREATED:20240725T182013Z
LAST-MODIFIED:20240725T182013Z
UID:3593-1724486400-1724504400@crosscreekclays.com
SUMMARY:APSU Softball Charity Shoot
DESCRIPTION:
URL:https://crosscreekclays.com/event/apsu-softball-charity-shoot/
LOCATION:Cross Creek Clays\, 3975 Jarman Hollow Rd\, Palmyra\, TN\, 37142\, United States
ORGANIZER;CN="Cross Creek Clays":MAILTO:info@crosscreekclays.com
END:VEVENT
BEGIN:VEVENT
DTSTART;TZID=America/Chicago:20240823T080000
DTEND;TZID=America/Chicago:20240823T130000
DTSTAMP:20260424T225030
CREATED:20240725T181837Z
LAST-MODIFIED:20240725T181837Z
UID:3591-1724400000-1724418000@crosscreekclays.com
SUMMARY:ARCOSA Corporate Event
DESCRIPTION:
URL:https://crosscreekclays.com/event/arcosa-corporate-event/
LOCATION:Cross Creek Clays\, 3975 Jarman Hollow Rd\, Palmyra\, TN\, 37142\, United States
ORGANIZER;CN="Cross Creek Clays":MAILTO:info@crosscreekclays.com
END:VEVENT
BEGIN:VEVENT
DTSTART;TZID=America/Chicago:20240815T080000
DTEND;TZID=America/Chicago:20240815T170000
DTSTAMP:20260424T225030
CREATED:20240725T181439Z
LAST-MODIFIED:20240725T181439Z
UID:3589-1723708800-1723741200@crosscreekclays.com
SUMMARY:Special Operations Xcursions
DESCRIPTION:Five-Stand only.
URL:https://crosscreekclays.com/event/special-operations-xcursions/
LOCATION:Cross Creek Clays\, 3975 Jarman Hollow Rd\, Palmyra\, TN\, 37142\, United States
ORGANIZER;CN="Cross Creek Clays":MAILTO:info@crosscreekclays.com
END:VEVENT
BEGIN:VEVENT
DTSTART;TZID=America/Chicago:20240815T080000
DTEND;TZID=America/Chicago:20240815T130000
DTSTAMP:20260424T225030
CREATED:20240731T192853Z
LAST-MODIFIED:20240731T192853Z
UID:3621-1723708800-1723726800@crosscreekclays.com
SUMMARY:Optimal Fiber Corporate Shoot
DESCRIPTION:
URL:https://crosscreekclays.com/event/optimal-fiber-corporate-shoot/
LOCATION:TN
END:VEVENT
BEGIN:VEVENT
DTSTART;TZID=America/Chicago:20240809T080000
DTEND;TZID=America/Chicago:20240809T170000
DTSTAMP:20260424T225030
CREATED:20240725T181103Z
LAST-MODIFIED:20240725T181103Z
UID:3587-1723190400-1723222800@crosscreekclays.com
SUMMARY:Jeff Bryant Campaign Fund Raiser
DESCRIPTION:Campaign Fund Raiser for Jeff Bryant – Montgomery County Highway Supervisor.
URL:https://crosscreekclays.com/event/jeff-bryant-campaign-fund-raiser/
LOCATION:Cross Creek Clays\, 3975 Jarman Hollow Rd\, Palmyra\, TN\, 37142\, United States
CATEGORIES:All Ages
ORGANIZER;CN="Cross Creek Clays":MAILTO:info@crosscreekclays.com
END:VEVENT
BEGIN:VEVENT
DTSTART;TZID=America/Chicago:20240803T080000
DTEND;TZID=America/Chicago:20240803T130000
DTSTAMP:20260424T225030
CREATED:20230512T172325Z
LAST-MODIFIED:20240227T173600Z
UID:2051-1722672000-1722690000@crosscreekclays.com
SUMMARY:6th Annual Loaves and Fishes John Waddle Memorial Shoot
DESCRIPTION:Registration opens at 8:00am at Cross Creek Clays and shooting begins at 9:00am.  Teams can be registered and paid for all together through Score Chaser.  Learn more about the shoot HERE. Call Jenn at (931)999-8190 for assistance.
URL:https://crosscreekclays.com/event/5th-annual-loaves-and-fishes-john-waddle-memorial-shoot/
LOCATION:Cross Creek Clays\, 3975 Jarman Hollow Rd\, Palmyra\, TN\, 37142\, United States
ATTACH;FMTTYPE=image/jpeg:https://crosscreekclays.com/wp-content/uploads/2023/05/LF-40th-Anniv-Logo.jpeg
END:VEVENT
BEGIN:VEVENT
DTSTART;TZID=America/Chicago:20240720T080000
DTEND;TZID=America/Chicago:20240720T140000
DTSTAMP:20260424T225030
CREATED:20230511T164733Z
LAST-MODIFIED:20240227T173428Z
UID:1797-1721462400-1721484000@crosscreekclays.com
SUMMARY:Hippie Hooper Memorial 'Shooting for Wheaties Kids' Tournament
DESCRIPTION:$400 team of 4. Lunch provided. Registration starts at 8am\, shooting starts at 9am. \nFor more information\, contact Scott Buchanan at 931-622-1287. \n 
URL:https://crosscreekclays.com/event/hippie-hooper-memorial-shooting-for-wheaties-kids-tournament/
LOCATION:Cross Creek Clays\, 3975 Jarman Hollow Rd\, Palmyra\, TN\, 37142\, United States
ATTACH;FMTTYPE=:
END:VEVENT
BEGIN:VEVENT
DTSTART;VALUE=DATE:20240713
DTEND;VALUE=DATE:20240715
DTSTAMP:20260424T225030
CREATED:20231207T210010Z
LAST-MODIFIED:20231207T210458Z
UID:2884-1720828800-1721001599@crosscreekclays.com
SUMMARY:Tennessee Points Race#7
DESCRIPTION:Seventh stop in the Tennessee Points Race circuit. Blue Course. This is a NSCA Registered event available for registration on ScoreChaser
URL:https://crosscreekclays.com/event/tennessee-points-race7/
LOCATION:Cross Creek Clays\, 3975 Jarman Hollow Rd\, Palmyra\, TN\, 37142\, United States
ORGANIZER;CN="TSCA and CCC":MAILTO:info@crosscreekclays.com
END:VEVENT
BEGIN:VEVENT
DTSTART;TZID=America/Chicago:20240704T080000
DTEND;TZID=America/Chicago:20240704T180000
DTSTAMP:20260424T225030
CREATED:20240626T213807Z
LAST-MODIFIED:20240626T213807Z
UID:3566-1720080000-1720116000@crosscreekclays.com
SUMMARY:4th Of July
DESCRIPTION:We will be open for the 4th of July. Hours of operation are from 09:00 to 18:00.
URL:https://crosscreekclays.com/event/4th-of-july/
LOCATION:TN
END:VEVENT
BEGIN:VEVENT
DTSTART;VALUE=DATE:20240613
DTEND;VALUE=DATE:20240617
DTSTAMP:20260424T225030
CREATED:20231207T194820Z
LAST-MODIFIED:20240114T145234Z
UID:2877-1718236800-1718582399@crosscreekclays.com
SUMMARY:Night Stalker/Legion Memorial Shoot
DESCRIPTION:This shoot was formerly called the Night Stalker. This year we are adding the 5th Special Forces Group to the memorial shoot. This year’s event will honor fallen soldiers from both the 160th Special Operations Aviation Regiment(Night Stalkers) and the 5th Special Forces Group (Legion). All proceeds will go to the Night Stalker Association and Chapter 38 of the Special Forces Association. These two organizations help to support the families of fallen unit members. We have made a great event even greater with the addition of the 5th SFG. The Night Stalker/Legion Memorial is a registered NSCA event available on ScoreChaser. \nCross Creek Clays will be closed to the public from 6/11/2024 to 6/16/2024.
URL:https://crosscreekclays.com/event/night-stalker-legion-memorial-shoot/
LOCATION:Cross Creek Clays\, 3975 Jarman Hollow Rd\, Palmyra\, TN\, 37142\, United States
CATEGORIES:All Ages
END:VEVENT
BEGIN:VEVENT
DTSTART;VALUE=DATE:20240610
DTEND;VALUE=DATE:20240618
DTSTAMP:20260424T225030
CREATED:20240610T151153Z
LAST-MODIFIED:20240610T151153Z
UID:3558-1717977600-1718668799@crosscreekclays.com
SUMMARY:CCC Closed to the Public 6/10 - 6/17
DESCRIPTION:Cross Creek Clays will be closed to the general public Monday\, 6/10 through Monday\, 6/17 for our 6th annual Night Stalker/Legion Memorial Shoot. Thank you for your understanding.
URL:https://crosscreekclays.com/event/ccc-closed-to-the-public-6-10-6-17/
LOCATION:TN
CATEGORIES:Closings
END:VEVENT
BEGIN:VEVENT
DTSTART;TZID=America/Chicago:20240607T080000
DTEND;TZID=America/Chicago:20240607T130000
DTSTAMP:20260424T225030
CREATED:20240227T173308Z
LAST-MODIFIED:20240227T173308Z
UID:3047-1717747200-1717765200@crosscreekclays.com
SUMMARY:Joe Smith for State Representative Campaign Fund Raiser
DESCRIPTION:
URL:https://crosscreekclays.com/event/joe-smith-for-state-representative-campaign-fund-raiser/
LOCATION:Cross Creek Clays\, 3975 Jarman Hollow Rd\, Palmyra\, TN\, 37142\, United States
ORGANIZER;CN="Cross Creek Clays":MAILTO:info@crosscreekclays.com
END:VEVENT
BEGIN:VEVENT
DTSTART;TZID=America/Chicago:20240524T080000
DTEND;TZID=America/Chicago:20240524T130000
DTSTAMP:20260424T225030
CREATED:20240227T173116Z
LAST-MODIFIED:20240227T173116Z
UID:3045-1716537600-1716555600@crosscreekclays.com
SUMMARY:ARCOSA Corporate Shoot
DESCRIPTION:Corporate shoot on Red Course
URL:https://crosscreekclays.com/event/arcosa-corporate-shoot/
LOCATION:TN
END:VEVENT
BEGIN:VEVENT
DTSTART;TZID=America/Chicago:20240522T080000
DTEND;TZID=America/Chicago:20240522T120000
DTSTAMP:20260424T225030
CREATED:20240227T172959Z
LAST-MODIFIED:20240227T172959Z
UID:3043-1716364800-1716379200@crosscreekclays.com
SUMMARY:Tennessee Poultry Association
DESCRIPTION:Corporate Shoot on Red Course
URL:https://crosscreekclays.com/event/tennessee-poultry-association/
LOCATION:TN
END:VEVENT
BEGIN:VEVENT
DTSTART;TZID=America/Chicago:20240510T080000
DTEND;TZID=America/Chicago:20240510T120000
DTSTAMP:20260424T225030
CREATED:20230822T230131Z
LAST-MODIFIED:20240227T172432Z
UID:2754-1715328000-1715342400@crosscreekclays.com
SUMMARY:Jeff Bryant For Highway Supervisor Fundraiser Shoot
DESCRIPTION:
URL:https://crosscreekclays.com/event/jeff-bryant-for-highway-supervisor-fundraiser-shoot/
LOCATION:Cross Creek Clays\, 3975 Jarman Hollow Rd\, Palmyra\, TN\, 37142\, United States
END:VEVENT
BEGIN:VEVENT
DTSTART;VALUE=DATE:20240508
DTEND;VALUE=DATE:20240512
DTSTAMP:20260424T225030
CREATED:20240227T172551Z
LAST-MODIFIED:20240227T172612Z
UID:2695-1715126400-1715471999@crosscreekclays.com
SUMMARY:OSP Clinic Tour
DESCRIPTION:Learn from the best! Internationally recognized instructors – Gil\, Brian and Vicki Ash.  Improve your skills and bring new potential to your game. Register for one\, two\, or all three days. Spots are limited!
URL:https://crosscreekclays.com/event/osp-clinic-tour/
LOCATION:Cross Creek Clays\, 3975 Jarman Hollow Rd\, Palmyra\, TN\, 37142\, United States
ATTACH;FMTTYPE=image/jpeg:https://crosscreekclays.com/wp-content/uploads/2023/07/image001-19.jpg
ORGANIZER;CN="OSP":MAILTO:gm@ospschool.com
END:VEVENT
BEGIN:VEVENT
DTSTART;TZID=America/Chicago:20240501T080000
DTEND;TZID=America/Chicago:20240506T170000
DTSTAMP:20260424T225030
CREATED:20240424T220717Z
LAST-MODIFIED:20240424T221255Z
UID:3521-1714550400-1715014800@crosscreekclays.com
SUMMARY:Closed to the Public (DU Eastern Continental)
DESCRIPTION:Cross Creek Clays will be closed to the public from May 1 through May 5\, 2024 to prepare for the Ducks Unlimited Eastern Continental Shoot.
URL:https://crosscreekclays.com/event/closed-to-the-public-du-eastern-continental/
LOCATION:Cross Creek Clays\, 3975 Jarman Hollow Rd\, Palmyra\, TN\, 37142\, United States
END:VEVENT
BEGIN:VEVENT
DTSTART;TZID=America/Chicago:20240501T080000
DTEND;TZID=America/Chicago:20240505T170000
DTSTAMP:20260424T225030
CREATED:20230512T165101Z
LAST-MODIFIED:20231207T235641Z
UID:2043-1714550400-1714928400@crosscreekclays.com
SUMMARY:Ducks Unlimited Eastern Continental Shoot
DESCRIPTION:New date for this tournament is May 1 – 5\, 2024. Mark your calendars – you don’t want to miss this one!  This is a NSCA registered shoot.
URL:https://crosscreekclays.com/event/ducks-unlimited-eastern-continental-shoot/
LOCATION:Cross Creek Clays\, 3975 Jarman Hollow Rd\, Palmyra\, TN\, 37142\, United States
END:VEVENT
BEGIN:VEVENT
DTSTART;TZID=America/Chicago:20240427T090000
DTEND;TZID=America/Chicago:20240427T130000
DTSTAMP:20260424T225030
CREATED:20230712T223138Z
LAST-MODIFIED:20231207T205322Z
UID:2701-1714208400-1714222800@crosscreekclays.com
SUMMARY:Clarksville Young Life’s Jimmy Settle Memorial Clay Shoot
DESCRIPTION:
URL:https://crosscreekclays.com/event/clarksville-young-lifes-jimmy-settle-memorial-clay-shoot/
LOCATION:Cross Creek Clays\, 3975 Jarman Hollow Rd\, Palmyra\, TN\, 37142\, United States
END:VEVENT
BEGIN:VEVENT
DTSTART;VALUE=DATE:20240420
DTEND;VALUE=DATE:20240422
DTSTAMP:20260424T225030
CREATED:20240114T144850Z
LAST-MODIFIED:20240416T175517Z
UID:2941-1713571200-1713743999@crosscreekclays.com
SUMMARY:1st Annual SCTP Bigfoot Blast
DESCRIPTION:xr:d:DAF97cvh868:7\,j:3069626655898314810\,t:24040114
URL:https://crosscreekclays.com/event/1st-annual-sctp-bigfoot-blast/
LOCATION:Cross Creek Clays\, 3975 Jarman Hollow Rd\, Palmyra\, TN\, 37142\, United States
CATEGORIES:Adults,All Ages,Kids
END:VEVENT
BEGIN:VEVENT
DTSTART;TZID=America/Chicago:20240405T080000
DTEND;TZID=America/Chicago:20240405T130000
DTSTAMP:20260424T225030
CREATED:20230607T185933Z
LAST-MODIFIED:20230607T185933Z
UID:2664-1712304000-1712322000@crosscreekclays.com
SUMMARY:Montgomery Co. Homebuilders Association Fundraiser Shoot
DESCRIPTION:
URL:https://crosscreekclays.com/event/montgomery-co-homebuilders-association-fundraiser-shoot/
LOCATION:Cross Creek Clays\, 3975 Jarman Hollow Rd\, Palmyra\, TN\, 37142\, United States
END:VEVENT
BEGIN:VEVENT
DTSTART;VALUE=DATE:20240331
DTEND;VALUE=DATE:20240401
DTSTAMP:20260424T225030
CREATED:20240219T163144Z
LAST-MODIFIED:20240219T163144Z
UID:3014-1711843200-1711929599@crosscreekclays.com
SUMMARY:Closed Easter Day
DESCRIPTION:Cross Creek Clays will be closed on Easter Sunday.
URL:https://crosscreekclays.com/event/closed-easter-day/
LOCATION:Cross Creek Clays\, 3975 Jarman Hollow Rd\, Palmyra\, TN\, 37142\, United States
END:VEVENT
END:VCALENDAR