BEGIN:VCALENDAR
VERSION:2.0
PRODID:-//Cross Creek Clays |  Sporting Clays, 5-Stand, Make-A-Break, FITASC - ECPv6.15.18//NONSGML v1.0//EN
CALSCALE:GREGORIAN
METHOD:PUBLISH
X-ORIGINAL-URL:https://crosscreekclays.com
X-WR-CALDESC:Events for Cross Creek Clays |  Sporting Clays, 5-Stand, Make-A-Break, FITASC
REFRESH-INTERVAL;VALUE=DURATION:PT1H
X-Robots-Tag:noindex
X-PUBLISHED-TTL:PT1H
BEGIN:VTIMEZONE
TZID:America/Chicago
BEGIN:DAYLIGHT
TZOFFSETFROM:-0600
TZOFFSETTO:-0500
TZNAME:CDT
DTSTART:20250309T080000
END:DAYLIGHT
BEGIN:STANDARD
TZOFFSETFROM:-0500
TZOFFSETTO:-0600
TZNAME:CST
DTSTART:20251102T070000
END:STANDARD
BEGIN:DAYLIGHT
TZOFFSETFROM:-0600
TZOFFSETTO:-0500
TZNAME:CDT
DTSTART:20260308T080000
END:DAYLIGHT
BEGIN:STANDARD
TZOFFSETFROM:-0500
TZOFFSETTO:-0600
TZNAME:CST
DTSTART:20261101T070000
END:STANDARD
BEGIN:DAYLIGHT
TZOFFSETFROM:-0600
TZOFFSETTO:-0500
TZNAME:CDT
DTSTART:20270314T080000
END:DAYLIGHT
BEGIN:STANDARD
TZOFFSETFROM:-0500
TZOFFSETTO:-0600
TZNAME:CST
DTSTART:20271107T070000
END:STANDARD
END:VTIMEZONE
BEGIN:VEVENT
DTSTART;VALUE=DATE:20260101
DTEND;VALUE=DATE:20260102
DTSTAMP:20260424T202922
CREATED:20251124T235136Z
LAST-MODIFIED:20251124T235136Z
UID:4202-1767225600-1767311999@crosscreekclays.com
SUMMARY:CLOSED on January 1st\, 2026
DESCRIPTION:Cross Creek Clays is CLOSED on Thursday\, January 1st\, 2026. We will re-open with normal business hours on Friday\, January 2nd\, 2026.
URL:https://crosscreekclays.com/event/closed-on-january-1st-2026/
LOCATION:Cross Creek Clays\, 3975 Jarman Hollow Rd\, Palmyra\, TN\, 37142\, United States
CATEGORIES:Closings
ATTACH;FMTTYPE=image/jpeg:https://crosscreekclays.com/wp-content/uploads/2025/09/crosscreek-social-alert-2025-alert-1.jpg
END:VEVENT
END:VCALENDAR